Workbook
Name Altissimo: Parametri!$B$23:$C$25
Name Alto: Parametri!$B$26:$C$26
Name Direzione: #REF!
Name Medio: Parametri!$B$27:$C$27
Name Profilo_dirigente: [1]Parametri!$B$2:$B$6
Name Profilo_dirigente: [1]Parametri!$B$2:$B$6
Name Profilo_dirigente: #REF!
Name Struttura: #REF!
Name Tipo_relazione: #REF!
Name ufficio: #REF!
Name ufficio_di_destinazione: [2]parametri!$A$2:$A$34

Sheet Sezione generale
B1: Sezione I: INFORMAZIONI DI CARATTERE GENERALE
B2: Denominazione Ufficio | C2: Segreteria
B3: Descrizione delle funzioni svolte dall'ufficio | C3: Supporta il Consiglio dell'Ordine negli adempimenti previsti dal D.Lgs. 139/05 ovvero: vigilanza sull'osservanza della legge professionale e di tutte le altre disposizioni che disciplinano la professione di Dottore Commercialista, cura della tenuta dell'Albo e dell'elenco speciale e delle iscrizioni e cancellazioni previste dall'ordinamento, cura della tenuta del registro dei tirocinanti e degli obblighi previsti dalle norme relative al tirocinio ed all'ammissione agli esami di Stato per l'esercizio della professione, cura dell'aggiornamento e della sussistenza dei requisiti di legge in capo agli iscritti, vigilanza per la tutela dei titoli e per il legale esercizio delle attività professionali, cura dell'istruttoria dei provvedimenti disciplinari di competenza del Consiglio di Disciplina.

Sheet Sezione generale_old
B1: Sezione I: INFORMAZIONI DI CARATTERE GENERALE
B2: Denominazione Ufficio (Selezione da menù a tendina)
B3: Nominativo Dirigente (Si alimenta automaticamente all'immissione della denominazione Ufficio) | C3: =VLOOKUP(C2,#REF!,3,0) -> #REF!
B4: Profilo dirigente
B5: Descrizione delle funzioni svolte dall'ufficio (Si alimenta automaticamente all'immissione della denominazione Ufficio) | C5: =VLOOKUP(C2,#REF!,2) -> #REF!

Sheet Mappatura processi
A1: Mappatura ATTIVITA'-FASI-AZIONI | J1: MISURE | S1: MONITORAGGIO
A2: UFFICIO | B2: AREA | C2: PROCESSO | D2: SOTTOPROCESSO | E2: DESCRIZIONE AZIONE | F2: Esecutore Azione | G2: Attività vincolata vs attività discrezionale * | H2: Tipologia di attività (Disciplinata da) | I2: DESCRIZIONE DEL COMPORTAMENTO A RISCHIO CORRUZIONE (EVENTO a RISCHIO) | J2: CATEGORIA DI EVENTO RISCHIOSO | K2: PROBABILITA' (P) | L2: IMPATTO (I) | M2: RISCHIO (PXI) | N2: CLASSE DI RISCHIO | Q2: MISURE GENERALI Contrassegnare con ** le misure già esistenti | R2: MISURE SPECIFICHE Contrassegnare con ** le misure già esistenti | S2: STATO di ATTUAZIONE al 1° gennaio 2018 | T2: FASI e TEMPI di ATTUAZIONE | U2: SOGGETTO RESPONSABILE
N3: BASSO (< 12) | O3: MEDIO (12<rischio>13,5) | P3: ALTO (>13,5)
A4: SEGRETERIA | B4: A Risorse umane | C4: A 1.1 Acquisizione e gestione risorse umane | D4: A 1.1.1 Acquisizione risorse umane | E4: Procedure di assunzione di personale a tempo determinato ed indeterminato | F4: Segreteria Presidente / Consiglio dell’Ordine | G4: Vincolata | H4: Prassi dell’Ufficio | I4: Alterazione delle procedure di valutazione | J4: Pilotamento di procedure/attività ai fini della concessione di privilegi/favori | K4: 3 | L4: 4.5 | M4: =K4*L4 -> 13.5 | N4: =IF(M4<12,"X","-") -> - | O4: X | P4: =IF(M4>13.5,"X","-") -> - | Q4: Codice di Comportamento | R4: Verifica sui requisiti posseduti dai candidati e sulla veridicità delle dichiarazioni rese | S4: attuato | U4: Segretario
E5: Assegnazione incarichi e consulenze | F5: Segreteria/ Presidente | G5: Vincolata | H5: Prassi dell’Ufficio | I5: Alterazione delle procedure di valutazione | J5: Pilotamento di procedure/attività ai fini della concessione di privilegi/favori | K5: 3.33 | L5: 4.25 | M5: =K5*L5 -> 14.1525 | N5: =IF(M5<12,"X","-") -> - | O5: =IF(AND(M5>12,M5<13.5),"X","-") -> - | P5: =IF(M5>13.5,"X","-") -> X | Q5: Comunicazione al Dipartimento della Funzione Pubblica sugli incarichi autorizzati ai dipendenti | R5: Acquisizione di Curricula e preventivi | S5: In attuazione | T5: Non sono previste fasi | U5: Segretario
D6: A 1.1.2 Trattamento giuridico del personale | E6: Procedimenti concernenti status, diritti e doveri dei dipendenti (aspettative, permessi, diritti sindacali …) | F6: Segreteria/ Presidente | G6: Vincolata | H6: Prassi dell’Ufficio | I6: Gestione impropria di informazioni, atti e documenti | J6: Alterazione/manipolazione/utilizzo improprio di informazioni e documentazione | K6: 1.83 | L6: 2.5 | M6: =K6*L6 -> 4.575 | N6: =IF(M6<12,"X","-") -> X | O6: =IF(AND(M6>12,M6<13.5),"X","-") -> - | P6: =IF(M6>13.5,"X","-") -> - | R6: Verifica sui requisiti posseduti dai dipendenti e sulla veridicità delle dichiarazioni rese | S6: In attuazione | T6: Da gennaio 2016 | U6: Segretario
E7: Tenuta fascicoli e stati matricolari | F7: Segreteria | G7: Vincolata | H7: Prassi dell’Ufficio | I7: Gestione impropria di informazioni, atti e documenti | J7: Alterazione/manipolazione/utilizzo improprio di informazioni e documentazione | K7: 1.83 | L7: 2 | M7: =K7*L7 -> 3.66 | N7: =IF(M7<12,"X","-") -> X | O7: =IF(AND(M7>12,M7<13.5),"X","-") -> - | P7: =IF(M7>13.5,"X","-") -> - | R7: Pubblicazione degli atti relativi alla gestione delle risorse umane nel rispetto della normativa vigente | S7: In attuazione | T7: Da gennaio 2016 | U7: Segretario
E8: Attribuzione progressioni di carriera | F8: Segreteria Presidente / Consiglio dell’Ordine | G8: Vincolata | H8: Prassi dell’Ufficio | I8: Alterazione delle procedure di valutazione | J8: Pilotamento di procedure/attività ai fini della concessione di privilegi/favori | K8: 2.17 | L8: 3.5 | M8: =K8*L8 -> 7.595 | N8: =IF(M8<12,"X","-") -> X | O8: =IF(AND(M8>12,M8<13.5),"X","-") -> - | P8: =IF(M8>13.5,"X","-") -> - | R8: Verifica sulla composizione delle commissioni esaminatrici (assenza di incompatibilità, condanne penali etc) | S8: In attuazione | T8: Da gennaio 2016 | U8: Segretario
D9: A1.1.3 Trattamento economico del personale | E9: Gestione economica del personale | F9: Segreteria/ Professionista incaricato | G9: Vincolata | H9: Normativa vigente | I9: Gestione impropria di informazioni, atti e documenti | J9: Alterazione/manipolazione/utilizzo improprio di informazioni e documentazione | K9: 1.5 | L9: 2.5 | M9: =K9*L9 -> 3.75 | N9: =IF(M9<12,"X","-") -> X | O9: =IF(AND(M9>12,M9<13.5),"X","-") -> - | P9: =IF(M9>13.5,"X","-") -> - | R9: Provvedimenti relativi al personale proposti di concerto tra più soggetti, (Tesoriere, Segretario e Direttore dell’Ordine). | S9: In attuazione | T9: da gennaio 2016 | U9: Segretario
E10: Gestione missioni | F10: Segreteria/ Presidente | G10: Vincolata | H10: Prassi dell’Ufficio | I10: Gestione impropria di informazioni, atti e documenti | J10: Alterazione/manipolazione/utilizzo improprio di informazioni e documentazione | K10: 2.67 | L10: 2 | M10: =K10*L10 -> 5.34 | N10: =IF(M10<12,"X","-") -> X | O10: =IF(AND(M10>12,M10<13.5),"X","-") -> - | P10: =IF(M10>13.5,"X","-") -> - | R10: Adozione di circolari in materia di orario di lavoro e gestione del personale | S10: In attuazione | T10: Non sono previste fasi | U10: Segretario
E11: Gestione adempimenti fiscali | F11: Segreteria/ Professionista incaricato | G11: Vincolata | H11: Normativa vigente | I11: Gestione impropria di informazioni, atti e documenti | J11: Alterazione/manipolazione/utilizzo improprio di informazioni e documentazione | K11: 1.83 | L11: 1.75 | M11: =K11*L11 -> 3.2025 | N11: =IF(M11<12,"X","-") -> X | O11: =IF(AND(M11>12,M11<13.5),"X","-") -> - | P11: =IF(M11>13.5,"X","-") -> - | R11: Adozione di circolari in materia di orario di lavoro e gestione del personale | S11: In attuazione | T11: Non sono previste fasi | U11: Segretario
E12: Gestione adempimenti previdenziali e assistenziali | F12: Segreteria/ Professionista incaricato | G12: Vincolata | H12: Normativa vigente | I12: Gestione impropria di informazioni, atti e documenti | J12: Alterazione/manipolazione/utilizzo improprio di informazioni e documentazione | K12: 1.83 | L12: 1.75 | M12: =K12*L12 -> 3.2025 | N12: =IF(M12<12,"X","-") -> X | O12: =IF(AND(M12>12,M12<13.5),"X","-") -> - | P12: =IF(M12>13.5,"X","-") -> - | R12: Provvedimenti relativi al personale proposti di concerto tra più soggetti, (Tesoriere, Segretario e Direttore dell’Ordine). | S12: In attuazione | T12: Da gennaio 2016 | U12: Segretario
B13: B Approvvigionamento e gestione dei beni | C13: B 1.1 FORNITURA DI BENI E SERVIZI | D13: B 1.1.1 Fornitura di beni e servizi | E13: Predisposizione richieste di acquisto | F13: Ufficio amministrazione e contabilità – Tesoriere | G13: Vincolata | H13: Normativa vigente | I13: Alterazione delle procedure di valutazione (sia in fase di pianificazione che di affidamento) al fine di privilegiare un determinato soggetto ovvero assicurare il conseguimento indiscriminato di accessi (a dati ed informazioni) e privilegi. | J13: Pilotamento di procedure/attività ai fini della concessione di privilegi/favori | K13: 4.17 | L13: 4.75 | M13: =K13*L13 -> 19.8075 | N13: =IF(M13<12,"X","-") -> - | O13: =IF(AND(M13>12,M13<13.5),"X","-") -> - | P13: =IF(M13>13.5,"X","-") -> X | Q13: Codice degli Appalti | R13: Verifica dei requisiti posseduti come da normativa vigente | S13: In attuazione | T13: Non sono previste fasi | U13: Tesoriere
E14: Predisposizione atti e documenti di gara | F14: Ufficio amministrazione e contabilità – Tesoriere | G14: Vincolata | H14: Normativa vigente | I14: Alterazione delle procedure di valutazione (sia in fase di pianificazione che di affidamento) al fine di privilegiare un determinato soggetto ovvero assicurare il conseguimento indiscriminato di accessi (a dati ed informazioni) e privilegi. | J14: Pilotamento di procedure/attività ai fini della concessione di privilegi/favori | K14: 3.5 | L14: 4.75 | M14: =K14*L14 -> 16.625 | N14: =IF(M14<12,"X","-") -> - | O14: =IF(AND(M14>12,M14<13.5),"X","-") -> - | P14: =IF(M14>13.5,"X","-") -> X | Q14: Codice degli Appalti | R14: Linee guida interne per la corretta predisposizione della documentazione di gara | S14: In attuazione | T14: Non sono previste fasi | U14: Tesoriere
E15: Affidamenti diretti lavori, servizi, forniture sottosoglia | F15: Ufficio amministrazione e contabilità – Tesoriere | G15: Vincolata | H15: Normativa vigente | I15: Alterazione delle procedure di valutazione (sia in fase di pianificazione che di affidamento) al fine di privilegiare un determinato soggetto ovvero assicurare il conseguimento indiscriminato di accessi (a dati ed informazioni) e privilegi. | J15: Pilotamento di procedure/attività ai fini della concessione di privilegi/favori | K15: 3.5 | L15: 4.75 | M15: =K15*L15 -> 16.625 | N15: =IF(M15<12,"X","-") -> - | O15: =IF(AND(M15>12,M15<13.5),"X","-") -> - | P15: =IF(M15>13.5,"X","-") -> X | Q15: Codice degli Appalti | R15: Preventiva individuazione, mediante direttive, circolari e regolamenti interni, di procedure atte ad attestare il ricorrere dei presupposti legali per indire procedure negoziate o procedere ad affidamenti diretti da parte del RP | S15: In attuazione | T15: Non sono previste fasi | U15: Tesoriere
E16: Individuazione criteri di attribuzione dei punteggi | F16: Ufficio amministrazione e contabilità – Tesoriere | G16: Vincolata | H16: Normativa vigente | I16: Alterazione delle procedure di valutazione (sia in fase di pianificazione che di affidamento) al fine di privilegiare un determinato soggetto ovvero assicurare il conseguimento indiscriminato di accessi (a dati ed informazioni) e privilegi. | J16: Pilotamento di procedure/attività ai fini della concessione di privilegi/favori | K16: 4 | L16: 4.75 | M16: =K16*L16 -> 19 | N16: =IF(M16<12,"X","-") -> - | O16: =IF(AND(M16>12,M16<13.5),"X","-") -> - | P16: =IF(M16>13.5,"X","-") -> X | Q16: Codice degli Appalti | R16: Linee guida interne per la corretta predisposizione della documentazione di gara | S16: In attuazione | T16: Non sono previste fasi | U16: Tesoriere
E17: Verifica dei requisiti in fase di gara o per la stipula del contratto | F17: Ufficio amministrazione e contabilità – Tesoriere | G17: Vincolata | H17: Normativa vigente | I17: Alterazione delle procedure di valutazione (sia in fase di pianificazione che di affidamento) al fine di privilegiare un determinato soggetto ovvero assicurare il conseguimento indiscriminato di accessi (a dati ed informazioni) e privilegi. | J17: Pilotamento di procedure/attività ai fini della concessione di privilegi/favori | K17: 3.5 | L17: 4.75 | M17: =K17*L17 -> 16.625 | N17: =IF(M17<12,"X","-") -> - | O17: =IF(AND(M17>12,M17<13.5),"X","-") -> - | P17: =IF(M17>13.5,"X","-") -> X | R17: Composizione delle commissioni di gara con meccanismi di rotazione nella formazione delle stesse | S17: In attuazione | T17: Non sono previste fasi | U17: Tesoriere
E18: Conservazione dei documenti di gara | F18: Ufficio amministrazione e contabilità – Tesoriere | G18: Vincolata | H18: Prassi dell’Ufficio | I18: Nessuno
E19: Gestione delle procedure di accesso agli atti di gara | F19: Ufficio amministrazione e contabilità – Tesoriere | G19: Vincolata | H19: Regolamenti interni | I19: Nessuno
E20: Acquisti effettuati con cassa economale | F20: Ufficio amministrazione e contabilità – Tesoriere | G20: Vincolata | H20: Prassi dell’Ufficio | I20: Omissione delle attività di verifica e controllo, in termini di monitoraggio sull’efficace ed efficiente realizzazione della specifica attività (rispetto dei Service Level Agreement, dell’aderenza a specifiche tecniche preventivamente definite, della rendicontazione sull’andamento di applicazioni e servizi in generale, dei documenti di liquidazione, etc). | J20: Elusione delle procedure di svolgimento delle attività e di controllo | K20: 3 | L20: 2 | M20: =K20*L20 -> 6 | N20: =IF(M20<12,"X","-") -> X | O20: =IF(AND(M20>12,M20<13.5),"X","-") -> - | P20: =IF(M20>13.5,"X","-") -> - | R20: Controlli sulla gestione della cassa e del fondo economale | S20: In attuazione | T20: Da gennaio 2016 | U20: Tesoriere
B21: C Provvedimenti ampliativi della sfera giuridica dei destinatari privi di effetto economico diretto e immediato per il destinatario | C21: C 1.1 Provvedimenti ampliativi della sfera giuridica dei destinatari | D21: C 1.1.1 Provvedimenti ampliativi della sfera giuridica dei destinatari | E21: Provvedimenti disciplinari a carico degli iscritti | F21: Segreteria/ Consiglio dell’ Ordine; | G21: Vincolata | H21: Regolamenti | I21: Differimento dei tempi di realizzazione di un’attività al fine di posticiparne l’analisi al limite della deadline utile; per contro, velocizzazione dell’operato nel caso in cui l’obiettivo sia quello di facilitare/contrarre i termini di esecuzione. | J21: Alterazione dei tempi | K21: 3.833 | L21: 4.5 | M21: =K21*L21 -> 17.2485 | N21: =IF(M21<12,"X","-") -> - | O21: =IF(AND(M21>12,M21<13.5),"X","-") -> - | P21: =IF(M21>13.5,"X","-") -> X | R21: Pubblicazione sul sito web istituzionale di tutte le informazioni imposte dalle norme sulla trasparenza e riferiti alle attività e ai procedimenti dell’Ordine. | S21: In attuazione | T21: Da gennaio 2016 | U21: Segretario
E22: Iscrizione, trasferimento e cancellazione Albo ed Elenco Speciale | F22: Segreteria Presidente / Consiglio dell’Ordine | G22: Vincolata | H22: Normativa vigente | I22: Differimento dei tempi di realizzazione di un’attività al fine di posticiparne l’analisi al limite della deadline utile; per contro, velocizzazione dell’operato nel caso in cui l’obiettivo sia quello di facilitare/contrarre i termini di esecuzione. | J22: Alterazione dei tempi | K22: 3.67 | L22: 4.75 | M22: =K22*L22 -> 17.4325 | N22: =IF(M22<12,"X","-") -> - | O22: =IF(AND(M22>12,M22<13.5),"X","-") -> - | P22: =IF(M22>13.5,"X","-") -> X | R22: Istruttoria riguardante i requisiti morali e professionali in caso di iscrizione, trasferimento e cancellazione e relativi adempimenti comunicativi | S22: In attuazione | T22: Da gennaio 2016 | U22: Segretario
E23: Rilascio di certificati e attestazioni relativi agli iscritti | F23: Segreteria - Presidente e Segretario | G23: Vincolata | H23: Prassi dell’Ufficio | I23: Differimento dei tempi di realizzazione di un’attività al fine di posticiparne l’analisi al limite della deadline utile; per contro, velocizzazione dell’operato nel caso in cui l’obiettivo sia quello di facilitare/contrarre i termini di esecuzione. | J23: Alterazione dei tempi | K23: 3.67 | L23: 4.25 | M23: =K23*L23 -> 15.5975 | N23: =IF(M23<12,"X","-") -> - | O23: =IF(AND(M23>12,M23<13.5),"X","-") -> - | P23: =IF(M23>13.5,"X","-") -> X | R23: Istruttoria riguardante i requisiti | S23: In attuazione | T23: Da gennaio 2016 | U23: Segretario
E24: Iscrizione, trasferimento e cancellazione Registro del Tirocinio | F24: Segreteria – commissione Tirocinio/ Consiglio dell’Ordine | G24: Vincolata | H24: Normativa vigente | I24: Differimento dei tempi di realizzazione di un’attività al fine di posticiparne l’analisi al limite della deadline utile; per contro, velocizzazione dell’operato nel caso in cui l’obiettivo sia quello di facilitare/contrarre i termini di esecuzione. | J24: Alterazione dei tempi | K24: 3 | L24: 2.25 | M24: =K24*L24 -> 6.75 | N24: =IF(M24<12,"X","-") -> X | O24: =IF(AND(M24>12,M24<13.5),"X","-") -> - | P24: =IF(M24>13.5,"X","-") -> - | R24: Istruttoria riguardante i requisiti morali e professionali in caso di iscrizione, trasferimento e cancellazione e relativi adempimenti comunicativi | S24: In attuazione | T24: Da gennaio 2016 | U24: Segretario
E25: Verifica dello svolgimento del tirocinio e rilascio di certificati e attestazioni relativi ai Tirocinanti; | F25: Segreteria – commissione Tirocinio/ Consiglio dell’Ordine | G25: Vincolata | H25: Normativa vigente | I25: Differimento dei tempi di realizzazione di un’attività al fine di posticiparne l’analisi al limite della deadline utile; per contro, velocizzazione dell’operato nel caso in cui l’obiettivo sia quello di facilitare/contrarre i termini di esecuzione. | J25: Alterazione dei tempi | K25: 3.5 | L25: 3 | M25: =K25*L25 -> 10.5 | N25: =IF(M25<12,"X","-") -> X | O25: =IF(AND(M25>12,M25<13.5),"X","-") -> - | P25: =IF(M25>13.5,"X","-") -> - | R25: Istruttoria riguardante i requisiti | S25: In attuazione | T25: Da gennaio 2016 | U25: Segretario
E26: Pareri in materia di onorarI | F26: Comm. Liquidazione Parcelle/ Consiglio dell’Ordine | G26: Vincolata | H26: Regolamenti | I26: Differimento dei tempi di realizzazione di un’attività al fine di posticiparne l’analisi al limite della deadline utile; per contro, velocizzazione dell’operato nel caso in cui l’obiettivo sia quello di facilitare/contrarre i termini di esecuzione. | J26: Alterazione dei tempi | K26: 3.17 | L26: 3.75 | M26: =K26*L26 -> 11.8875 | N26: =IF(M26<12,"X","-") -> X | O26: =IF(AND(M26>12,M26<13.5),"X","-") -> - | P26: =IF(M26>13.5,"X","-") -> - | R26: Rispetto dell'iter previsto dal Regolamento | S26: In attuazione | T26: Non sono previste fasi | U26: Segretario
E27: Composizione delle contestazioni che sorgono, in dipendenza dell’esercizio professionale, tra gli iscritti nell’Albo e tra questi e i loro clienti | F27: Segreteria - Presidente | G27: Discrezionale | H27: Prassi dell’Ufficio | I27: Comportamento attuato mediante l’alterazione di una valutazione, delle evidenze di un’analisi o la ricostruzione infedele o parziale di una circostanza, al fine di distorcere le evidenze e rappresentare il generico evento non già sulla base di elementi oggettivi, ma piuttosto di dati volutamente falsati. | J27: Uso improprio o distorto della discrezionalità | K27: 4.33 | L27: 3 | M27: =K27*L27 -> 12.99 | N27: =IF(M27<12,"X","-") -> - | O27: =IF(AND(M27>12,M27<13.5),"X","-") -> X | P27: =IF(M27>13.5,"X","-") -> - | Q27: Misure di controllo | R27: Controlli a campione sulla correttezza delle composizioni effettuate | S27: In attuazione | T27: Non sono previste fasi | U27: Segretario
E28: Verifica cause di incompatibilità iscritti | F28: Segreteria - Segretario/ Consiglio dell’Ordine | G28: Vincolata | H28: Normativa vigente | I28: Gestione impropria di informazioni, atti e documenti | J28: Alterazione/manipolazione/utilizzo improprio di informazioni e documentazione | K28: 3.5 | L28: 4.25 | M28: =K28*L28 -> 14.875 | N28: =IF(M28<12,"X","-") -> - | O28: =IF(AND(M28>12,M28<13.5),"X","-") -> - | P28: =IF(M28>13.5,"X","-") -> X | R28: Istruttoria riguardante i requisiti morali e professionali in caso di iscrizione, trasferimento e cancellazione e relativi adempimenti comunicativi | S28: In attuazione | T28: da gennaio 2016 | U28: Segretario
B29: D Provvedimenti con effetto economico diretto e immediato per il destinatario | C29: D 1.1 Provvedimenti con effetto economico | D29: D 1.1.1 Provvedimenti con effetto economico | E29: Incasso pagamenti | F29: Ufficio amministrazione e contabilità – Tesoriere | G29: Vincolata | H29: Normativa vigente | I29: Gestione impropria di informazioni, atti e documenti | J29: Alterazione/manipolazione/utilizzo improprio di informazioni e documentazione | K29: 2.5 | L29: 4.75 | M29: =K29*L29 -> 11.875 | N29: =IF(M29<12,"X","-") -> X | O29: =IF(AND(M29>12,M29<13.5),"X","-") -> - | P29: =IF(M29>13.5,"X","-") -> - | R29: Verifica della contabilità e della cassa, verifica del rispetto dei tempi di incasso, dei tempi dei solleciti | U29: Tesoriere
E30: Gestione e recupero crediti | F30: Ufficio amministrazione e contabilità – Tesoriere – Avvocati incaricati dall’ Ordine per recupero crediti | G30: Discrezionale | H30: Normativa vigente | I30: Comportamento attuato mediante l’alterazione di una valutazione, delle evidenze di un’analisi o la ricostruzione infedele o parziale di una circostanza, al fine di distorcere le evidenze e rappresentare il generico evento non già sulla base di elementi oggettivi, ma piuttosto di dati volutamente falsati. | J30: Uso improprio o distorto della discrezionalità | K30: 3.33 | L30: 3.25 | M30: =K30*L30 -> 10.8225 | N30: =IF(M30<12,"X","-") -> X | O30: =IF(AND(M30>12,M30<13.5),"X","-") -> - | P30: =IF(M30>13.5,"X","-") -> - | R30: Monitoraggio periodico dello stato avanzamento dei procedimenti di recupero e riscossione dei crediti sia in fase amministrativa sia in fase di riscossione coatta | S30: In attuazione | T30: Non sono previste fasi | U30: Tesoriere
B31: E Formazione professionale continua | C31: E 1.1 Formazione professionale continua | D31: E 1.1.1 Formazione professionale continua | E31: Esame e valutazione delle offerte formative | F31: Consiglio - Consigliere delegato alla formazione | G31: Discrezionale | H31: Prassi dell’Ufficio | I31: Comportamento attuato mediante l’alterazione di una valutazione, delle evidenze di un’analisi o la ricostruzione infedele o parziale di una circostanza, al fine di distorcere le evidenze e rappresentare il generico evento non già sulla base di elementi oggettivi, ma piuttosto di dati volutamente falsati. | J31: Uso improprio o distorto della discrezionalità | K31: 4.17 | L31: 3 | M31: =K31*L31 -> 12.51 | N31: =IF(M31<12,"X","-") -> - | O31: =IF(AND(M31>12,M31<13.5),"X","-") -> X | P31: =IF(M31>13.5,"X","-") -> - | Q31: Misure di controllo | R31: Controlli a campione sulla persistenza dei requisiti degli “enti terzi” autorizzati all’erogazione della formazione | S31: In attuazione | T31: Non sono previste fasi | U31: Segretario
E32: Registrazione-rilevazione delle presenze agli eventi per l’ottenimento di crediti formativi professionali (CFP) agli iscritti | F32: Segreteria – Segretario | G32: Vincolata | H32: Normativa vigente | I32: Omissione delle attività di verifica e controllo, in termini di monitoraggio sull’efficace ed efficiente realizzazione della specifica attività (rispetto dei Service Level Agreement, dell’aderenza a specifiche tecniche preventivamente definite, della rendicontazione sull’andamento di applicazioni e servizi in generale, dei documenti di liquidazione, etc). | J32: Elusione delle procedure di svolgimento delle attività e di controllo | K32: 4 | L32: 2 | M32: =K32*L32 -> 8 | N32: =IF(M32<12,"X","-") -> X | O32: =IF(AND(M32>12,M32<13.5),"X","-") -> - | P32: =IF(M32>13.5,"X","-") -> - | R32: Rispetto dell'iter previsto dal Regolamento | S32: attuato | U32: Segretario
E33: Vigilanza sugli “enti terzi” autorizzati all’erogazione della formazione ai sensi dell’art. 7, co. 2, d.p.r. 137 del 2012, dagli ordini e collegi territoriali | F33: Segreteria – Segretario | G33: Vincolata | H33: Normativa vigente | I33: Omissione delle attività di verifica e controllo, in termini di monitoraggio sull’efficace ed efficiente realizzazione della specifica attività (rispetto dei Service Level Agreement, dell’aderenza a specifiche tecniche preventivamente definite, della rendicontazione sull’andamento di applicazioni e servizi in generale, dei documenti di liquidazione, etc). | J33: Elusione delle procedure di svolgimento delle attività e di controllo | K33: 3.67 | L33: 3 | M33: =K33*L33 -> 11.01 | N33: =IF(M33<12,"X","-") -> X | O33: =IF(AND(M33>12,M33<13.5),"X","-") -> - | P33: =IF(M33>13.5,"X","-") -> - | R33: Rispetto dell'iter previsto dal Regolamento | S33: In attuazione | T33: Non sono previste fasi | U33: Segretario
E34: Accredito eventi formativi | F34: Segreteria – commissione FPC/ Consiglio dell’Ordine | G34: Discrezionale | H34: Prassi dell’Ufficio | I34: Comportamento attuato mediante l’alterazione di una valutazione, delle evidenze di un’analisi o la ricostruzione infedele o parziale di una circostanza, al fine di distorcere le evidenze e rappresentare il generico evento non già sulla base di elementi oggettivi, ma piuttosto di dati volutamente falsati. | J34: Uso improprio o distorto della discrezionalità | K34: 4.33 | L34: 4 | M34: =K34*L34 -> 17.32 | N34: =IF(M34<12,"X","-") -> - | O34: =IF(AND(M34>12,M34<13.5),"X","-") -> - | P34: =IF(M34>13.5,"X","-") -> X | R34: Pubblicazione degli eventi formativi accreditati sul sito web dell’Ordine | S34: In attuazione | T34: Da gennaio 2016 | U34: Segretario
E35: Riconoscimento crediti FPC | F35: Segreteria – commissione FPC/ Consiglio dell’Ordine | G35: Discrezionale | H35: Normativa vigente | I35: Comportamento attuato mediante l’alterazione di una valutazione, delle evidenze di un’analisi o la ricostruzione infedele o parziale di una circostanza, al fine di distorcere le evidenze e rappresentare il generico evento non già sulla base di elementi oggettivi, ma piuttosto di dati volutamente falsati. | J35: Uso improprio o distorto della discrezionalità | K35: 4.5 | L35: 3.25 | M35: =K35*L35 -> 14.625 | N35: =IF(M35<12,"X","-") -> - | O35: =IF(AND(M35>12,M35<13.5),"X","-") -> - | P35: =IF(M35>13.5,"X","-") -> X | R35: controlli a campione sull’attribuzione dei crediti ai professionisti, successivi allo svolgimento di un evento formativo | S35: In attuazione | T35: Non sono previste fasi | U35: Segretario
E36: Organizzazione e svolgimento di eventi formativi | F36: Segreteria – Segretario | G36: Discrezionale | H36: Prassi dell’Ufficio | I36: Comportamento attuato mediante l’alterazione di una valutazione, delle evidenze di un’analisi o la ricostruzione infedele o parziale di una circostanza, al fine di distorcere le evidenze e rappresentare il generico evento non già sulla base di elementi oggettivi, ma piuttosto di dati volutamente falsati. | J36: Uso improprio o distorto della discrezionalità | K36: 3.67 | L36: 3 | M36: =K36*L36 -> 11.01 | N36: =IF(M36<12,"X","-") -> X | O36: =IF(AND(M36>12,M36<13.5),"X","-") -> - | P36: =IF(M36>13.5,"X","-") -> - | R36: controlli a campione sull’attribuzione dei crediti ai professionisti, successivi allo svolgimento di un evento formativo | S36: In attuazione | T36: Non sono previste fasi | U36: Segretario
B37: F Pareri di conguità sui corrispettivi per le prestazioni professionali | C37: F 1.1 Pareri di conguità | D37: F 1.1.1 Pareri di conguità | E37: Liquidazione di onorari e spese relativi alle prestazioni professionali | F37: Comm. Liquidazione Parcelle/ Consiglio dell’Ordine | G37: Vincolata | H37: Regolamenti | I37: Differimento dei tempi di realizzazione di un’attività al fine di posticiparne l’analisi al limite della deadline utile; per contro, velocizzazione dell’operato nel caso in cui l’obiettivo sia quello di facilitare/contrarre i termini di esecuzione. | J37: Alterazione dei tempi | K37: 3.17 | L37: 4 | M37: =K37*L37 -> 12.68 | N37: =IF(M37<12,"X","-") -> - | O37: =IF(AND(M37>12,M37<13.5),"X","-") -> X | P37: =IF(M37>13.5,"X","-") -> - | R37: Rispetto dell'iter previsto dal Regolamento | S37: In attuazione | T37: Da gennaio 2016 | U37: Segretario
B38: G Indicazione conferimenti incarichi a professionisti | C38: G 1.1 Incarichi a professionisti | D38: G 1.1.1 Incarichi a professionisti | E38: indicazione vincolante per il conferimento di incarichi a professionisti (arbitrato …) | F38: Presidente – Consiglio dell’Ordine | G38: Discrezionale | H38: Prassi dell’Ufficio | I38: Comportamento attuato mediante l’alterazione di una valutazione, delle evidenze di un’analisi o la ricostruzione infedele o parziale di una circostanza, al fine di distorcere le evidenze e rappresentare il generico evento non già sulla base di elementi oggettivi, ma piuttosto di dati volutamente falsati. | J38: Uso improprio o distorto della discrezionalità | K38: 4.67 | L38: 4 | M38: =K38*L38 -> 18.68 | N38: =IF(M38<12,"X","-") -> - | O38: =IF(AND(M38>12,M38<13.5),"X","-") -> - | P38: =IF(M38>13.5,"X","-") -> X | R38: Ratifica da parte del Consiglio per la designazione effettuata dal solo Presidente con atto motivato e pubblicazione sul sito "Amministrazione Trasparente" | S38: In attuazione | T38: da gennaio 2016 | U38: Segretario
E39: incarichi a Consiglieri in merito a commissioni, incarichi speciali presso altre istituzioni o deleghe particolari | F39: Presidente – Consiglio dell’Ordine | G39: Discrezionale | H39: Prassi dell’Ufficio | I39: Comportamento attuato mediante l’alterazione di una valutazione, delle evidenze di un’analisi o la ricostruzione infedele o parziale di una circostanza, al fine di distorcere le evidenze e rappresentare il generico evento non già sulla base di elementi oggettivi, ma piuttosto di dati volutamente falsati. | J39: Uso improprio o distorto della discrezionalità | K39: 4.67 | L39: 4 | M39: =K39*L39 -> 18.68 | N39: =IF(M39<12,"X","-") -> - | O39: =IF(AND(M39>12,M39<13.5),"X","-") -> - | P39: =IF(M39>13.5,"X","-") -> X | R39: Esclusione della possibilità di nomina | S39: attuato | T39: da gennaio 2016 | U39: Segretario
E40: risposte a cittadini su richieste di indicazioni di professionisti | F40: segreteria | G40: Discrezionale | H40: Prassi dell’Ufficio | I40: Comportamento attuato mediante l’alterazione di una valutazione, delle evidenze di un’analisi o la ricostruzione infedele o parziale di una circostanza, al fine di distorcere le evidenze e rappresentare il generico evento non già sulla base di elementi oggettivi, ma piuttosto di dati volutamente falsati. | J40: Uso improprio o distorto della discrezionalità | K40: 4.67 | L40: 4 | M40: =K40*L40 -> 18.68 | N40: =IF(M40<12,"X","-") -> - | O40: =IF(AND(M40>12,M40<13.5),"X","-") -> - | P40: =IF(M40>13.5,"X","-") -> X | Q40: Misure di controllo | R40: Controlli a campione sulla correttezza delle comunicazioni effettuate | S40: In attuazione | T40: Non sono previste fasi | U40: Segretario
...

Sheet competenze
A1: Ufficio | B1: Acronimo | C1: Competenze | D1: Dirigente
A2: Capo Segreteria e Segreteria del Presidente | B2: SGPRES | C2: 1. Il Capo segreteria cura i rapporti istituzionali delegati dal Presidente e provvede al coordinamento degli impegni ed alla predisposizione di quanto occorra per i suoi interventi istituzionali. Il Capo Segreteria cura, per conto del Presidente, le pratiche che lo stesso intende gestire direttamente, raccordandosi con il Segretario Generale, e, ove necessario, con gli Uffici dell’Autorità. Garantisce, inoltre, l’unitarietà di indirizzo delle Unità organizzative in staff al Presidente. 2. Coordina la Segreteria del Presidente che gestisce l’agenda e i flussi informativi interni ed esterni, cura la sua corrispondenza personale, nonché, in raccordo con il Segretario Generale, gli aspetti di cerimoniale. La Segreteria supporta inoltre il Presidente nella gestione dei servizi di segreteria nell’ambito delle relazioni internazionali. Supporta infine il Portavoce e l’unità organizzativa “Stampa e Comunicazione” nelle attività di competenza. | D2: DINI FEDERICO
A3: Affari legali e contenzioso | B3: UCOG | C3: 1. L’Ufficio “Affari legali e contenzioso” fornisce supporto giuridico alle strutture dell’Autorità. Assicura la gestione del contenzioso giurisdizionale mediante la predisposizione di memorie a supporto del patrocinio legale dell’Avvocatura dello Stato. | D3: SARDELLA ELISA
A4: Gare e logistica | B4: UGARE | C4: 2. L’Ufficio “Gare e logistica” assicura l’acquisizione di beni e servizi. Rileva e definisce i fabbisogni in ambito logistico e provvede alla stesura di capitolati; assicura i relativi adempimenti in materia di sicurezza del lavoro; fornisce il servizio di economato e la gestione dei beni strumentali. Gestisce le autovetture di servizio e il servizio di reception e le polizze assicurative. | D4: COLANDREA ANTONELLO
A5: Esercizio sistemi informativi | B5: UESI | C5: 3. L’Ufficio “Esercizio sistemi informativi” rileva e definisce i fabbisogni di beni strumentali IT e cura la stesura dei relativi capitolati; gestisce l’infrastruttura hardware e l'infrastruttura fisica del CED; gestisce i test di esercibilità dei sistemi IT e i sistemi IT. Svolge le funzioni di Project management del servizio di disaster recovery e business continuity. | D5: VARGIU FRANCESCO
A6: Risorse finanziarie | B6: URF | C6: 1. L’Ufficio “Risorse finanziarie” predispone i documenti di bilancio d'esercizio (previsione, variazione e consuntivo); gestisce i rapporti con Equitalia e provvede alla riscossione e al versamento delle entrate a qualsiasi titolo dovute; si occupa del controllo di gestione ed assicura la gestione economica e pensionistica del personale. | D6: CECCARELLI STEFANO
A7: Risorse umane e formazione | B7: URU | C7: 2. L’Ufficio “Risorse umane e formazione” assicura la gestione amministrativa ed il trattamento giuridico del personale; gestisce le procedure di reclutamento del personale; assicura la formazione e la riqualificazione dei dipendenti; cura l’applicazione del codice di comportamento in raccordo con il Responsabile della prevenzione e della corruzione (RPCT); cura i progetti di formazione interna ed esterna; cura le relazioni sindacali. | D7: DE TULLIO MARIA VELINKA | AE7: Uffici del Presidente
A8: Pianificazione e analisi flussi informativi e documentali | B8: UFID | C8: L’Ufficio “Pianificazione e analisi dei flussi informativi e documentali” recepisce ed elabora i fabbisogni di servizi IT. Valuta la rilevanza e la priorità degli interventi, definendo la relativa pianificazione triennale e proponendo all’Ufficio “Gare e Logistica”, per la parte IT, il programma biennale degli acquisti di beni e servizi. Assicura, altresì, la corretta definizione delle modalità di funzionamento del protocollo informatico e l’assegnazione delle pratiche secondo l’indirizzo espresso dal Presidente nonché l’analisi per la gestione dei flussi documentali degli Uffici, monitorando l'efficacia della gestione informatizzata. | D8: BONETTI VINCENZO | AE8: Uffici del Presidente
A9: Precontenzioso e pareri | B9: UPAG | C9: 1. L’Ufficio “Precontenzioso e pareri” cura l’elaborazione di pareri con rilevanza esterna in materia di contratti pubblici; cura, altresì, i pareri di precontenzioso di cui all'art. 211, comma 1 del Codice. Cura i pareri al giudice delegato in caso di imprese sottoposte a procedure fallimentari e le relative autorizzazioni ai sensi dell’art. 110 del Codice dei Contratti pubblici. | D9: CHIMENTI MARIA LUISA | AE9: Uffici del Presidente
A10: Regolazione contratti pubblici | B10: URCP | C10: 2. L’Ufficio “Regolazione contratti pubblici” cura la redazione e l’aggiornamento delle linee guida attuative del Codice, nonché degli atti di regolazione flessibile volti a disciplinare le problematiche ricorrenti nel mercato. Disegna e sviluppa, secondo direttive impartite dal Consiglio, la metodologia per l'analisi e la verifica di impatto della regolazione dei provvedimenti dell'Autorità e ne cura l'applicazione in collaborazione con gli Uffici interessati. | D10: CUCCHIARELLI ALBERTO | AE10: Uffici del Presidente
A11: Standardizzazione documenti di gara | B11: USDG | C11: 3. L’Ufficio “Standardizzazione documenti di gara” cura la predisposizione e l'aggiornamento dei bandi-tipo, capitolati-tipo, contratti-tipo nonché dei documenti contrattuali di gara standard per lavori, servizi, forniture e concessioni; analizza le ricadute applicative sulle stazioni appaltanti a valle dell'adozione dei suddetti documenti di gara, verificandone l’utilizzo attraverso le informazioni della Banca Dati Nazionale dei Contratti Pubblici operante presso l’Autorità. | D11: CANDIA ADOLFO | AE11: Uffici del Segretario generale
A12: Osservatorio dei contratti pubblici ed analisi economiche | B12: UOSA | C12: 4. L’Ufficio “Osservatorio dei contratti pubblici ed analisi economiche” svolge le attività finalizzate alla raccolta dei dati informativi concernenti i contratti pubblici e le società di ingegneria, il sistema di qualificazione, ivi compresi i C.E.L.; assicura il data quality dei dati. Cura i rapporti con le Sezioni Regionali dell’Osservatorio. Assicura l’elaborazione e l’analisi dei dati concernenti i contratti pubblici. Provvede, altresì, all’elaborazione e all’analisi dei dati concernenti le cause e i fattori della corruzione. Promuove la realizzazione di ricerche e studi giuridici ed economici su tematiche specifiche. | D12: CIMINO ADRIANA | AE12: Uffici del Segretario generale
A13: Rilevazione e monitoraggio prezzi di riferimento contratti pubblici | B13: USPEND | C13: 5. L’Ufficio “Rilevazione e monitoraggio prezzi di riferimento contratti pubblici” cura gli adempimenti relativi alla determinazione dei prezzi di riferimento di beni e servizi; rende i pareri di congruità sui prezzi di beni e servizi su richiesta delle stazioni appaltanti ai sensi dell’art. 161 del Codice dei contratti pubblici. Assicura il monitoraggio delle informazioni relative a beni e servizi, ivi compresi gli acquisti degli enti del SSN, anche in funzione dell’attività di vigilanza dell’Autorità. Promuove ricerche e studi sulla tematica della spending review nei contratti pubblici. Cura la gestione del protocollo di intesa con il MEF relativo alla spending review. | D13: SBICCA FABRIZIO | AE13: Uffici del Segretario generale
A14: Programmazione e Sviluppo delle Banca Dati, piattaforma digitale e Servizi IT | B14: UPSIT | C14: 6. L’Ufficio “Programmazione e sviluppo delle Banche dati, piattaforma digitale e Servizi IT” recepisce ed elabora i fabbisogni di servizi IT, definendo la relativa pianificazione triennale. Definisce e gestisce il Portafoglio dei servizi ICT. Elabora la stesura dei capitolati tecnici delle gare d’appalto per i servizi IT necessari. Definisce e pianifica le misure logiche e fisiche di sicurezza e gli altri adempimenti necessari a garantire la sicurezza delle informazioni e la tutela della privacy. Definisce gli standard metodologici e documentali per le attività di progettazione e sviluppo dei servizi IT. Cura la piattaforma digitale e le funzioni previste dall’art. 29 del Codice dei contratti pubblici. Cura la progettazione e lo sviluppo dei servizi per l’accesso ai dati disponibili presso le banche dati gestite anche in modalità Open data. Svolge le funzioni di Program e Project Management ICT. Cura la progettazione, lo sviluppo e la gestione tecnica dei siti web dell’ANAC. | D14: FULIGNI STEFANO | AE14: Uffici del Segretario generale
A15: Qualificazione stazioni appaltanti | B15: USA | C15: 7. L’Ufficio “Qualificazione stazioni appaltanti” gestisce il sistema di qualificazione delle stazioni appaltanti, l’albo dei commissari di gara e l'elenco delle amministrazioni aggiudicatrici e degli enti aggiudicatori che operano mediante affidamenti diretti nei confronti di proprie società in house ai sensi dell’art. 192 del Codice dei contratti pubblici; cura l’accreditamento e la gestione dell’elenco dei soggetti aggregatori. | D15: ZAINO ALBERTO | AE15: Uffici del Segretario generale
A16: Vigilanza sulle SOA | B16: UVSOA | C16: 8. L’Ufficio “Vigilanza sulle SOA” svolge le attività di vigilanza volte ad accertare il possesso, da parte delle SOA, dei requisiti richiesti dalle vigenti disposizioni normative; cura i relativi procedimenti sanzionatori; istruisce i procedimenti sanzionatori verso le SOA nei casi di mancato adempimento alle vigenti disposizioni in materia di esercizio dell’attività di attestazione. | D16: TUNNO ALOISIO ANNA | AE16: Uffici del Segretario generale
A17: Vigilanza e qualificazione operatori economici | B17: UVOE | C17: 9. L’Ufficio “Vigilanza e qualificazione operatori economici” gestisce il rating delle imprese, provvedendo alla redazione della disciplina attuativa del Codice; svolge le attività relative all’attribuzione del rating di legalità; vigila sulle attestazioni di qualificazione SOA su iniziativa d’ufficio o su segnalazione, curando i relativi procedimenti sanzionatori, e le eventuali relative annotazioni dovute a provvedimenti interdittivi. | D17: TRAVAGLINO VINCENZO | AE17: Uffici Area Vigilanza
A18: Vigilanza collaborativa e vigilanze speciali | B18: UVS | C18: 10. L’Ufficio “Vigilanza collaborativa e vigilanze speciali” svolge attività di vigilanza di tipo collaborativo mediante la stipula di protocolli di vigilanza. Vigila sui contratti secretati e sugli appalti della difesa sia d’ufficio sia su segnalazione, eventualmente attraverso accertamenti svolti dagli ispettori, nonché sulla base di programmi annuali definiti dal Consiglio. Svolge attività di vigilanza e di indagine specifica a carattere settoriale, su appalti pubblici di lavori, servizi e forniture, appositamente delegati dal Presidente o dal Consiglio. Propone al Consiglio l’eventuale adozione di atti di raccomandazione vincolante ex art. 211, comma 2. | D18: ROMANO FILIPPO | AE18: Uffici Area Vigilanza
... A31: Stampa e comunicazione | B31: COMUN | C31: 1. L’unità organizzativa denominata “Stampa e comunicazione” supporta il Portavoce nelle funzioni di competenza. In particolare, l’Unità provvede: alla gestione dei rapporti con le testate degli organi di informazione di massa alla diffusione, sulla base degli indirizzi del Presidente, del flusso delle informazioni provenienti dall'interno verso gli organi di informazione. alla predisposizione, con il supporto degli Uffici competenti, dei comunicati stampa dell'Autorità; all’organizzazione di conferenze stampa dell’Autorità e/o di interviste del Presidente; alla gestione della rassegna stampa; al monitoraggio dell'immagine dell'Autorità come percepita sui mezzi di comunicazione di massa e sui social network. L’Unità cura, infine, la strutturazione del portale in termini di rappresentazione grafica e provvede alla pubblicazione degli atti. | D31: - | AE31: Uffici Area Regolazione
A32: Segreteria e staff del Consiglio | B32: UCONS | C32: 1. La “Segreteria e Staff del Consiglio” cura su indicazione del Presidente la predisposizione dell’ordine del giorno del Consiglio; l’iter documentale per lo svolgimento delle riunioni; la trasmissione delle decisioni agli uffici ai fini della loro esecuzione; cura la pubblicazione degli atti a valenza generale in Gazzetta Ufficiale; fornisce supporto ai Consiglieri per i lavori del Consiglio. | D32: -
A33: Dirigenti in staff al Segretario generale | B33: DIRSTAFFSG | C33: 1. I Dirigenti con incarico di staff supportano il Segretario generale nel monitoraggio e nell’aggiornamento del Sistema di misurazione e valutazione della performance; assicurano il monitoraggio delle proposte di delibera e della esecuzione delle delibere adottate; curano lo sviluppo dei servizi di biblioteca anche mediante la massimazione degli atti dell’Autorità. Possono svolgere le funzioni di RPCT previa deliberazione consiliare di nomina. | D33: RENZI/PONZONE
A34: Staff del Segretario generale | B34: STAFFSG | C34: Lo staff del Segretario Generale cura le pratiche che questi intende gestire direttamente; supporta il Segretario Generale nell’organizzazione e lo sviluppo delle risorse umane, nel monitoraggio del Piano triennale di prevenzione della corruzione e del Programma triennale per la trasparenza e l'integrità, al fine di garantirne la coerenza con il ciclo della performance e del bilancio. | D34: -
A35: Struttura tecnica permanente di valutazione delle performance | B35: STVP | C35: 1. La “Struttura tecnica permanente di valutazione delle performance” assicura il necessario supporto all’OIV, nell’elaborazione dei piani gestionali e delle performance, quale “interfaccia tecnica‟ tra l’Organismo di valutazione e i dirigenti. Supporta il Segretario generale, nell’aggiornamento del Sistema di misurazione e valutazione della performance e l’OIV, nella fase di monitoraggio e audit sul suo corretto funzionamento. | D35: -
A36: Organo per i procedimenti disciplinari | B36: OPD | C36: 1. Presso il Segretario Generale opera un organo collegiale, diretto dallo stesso, che ai sensi dell’art. 55-bis del d.lgs. n. 165/2001 è competente per i procedimenti disciplinari. | D36: -
A37: Segreteria del Segretario generale | B37: SGSEG | C37: 1. La Segreteria si occupa della gestione dell’agenda e dei flussi informativi interni ed esterni e provvede al coordinamento degli impegni ed alla predisposizione di quanto occorra per i suoi interventi istituzionali. Cura il funzionamento della biblioteca. | D37: -
A38: Camera arbitrale | B38: ARBIT | C38: 1. La Camera arbitrale cura annualmente la rilevazione dei dati emergenti dal contenzioso in materia di contratti pubblici e li trasmette all'Autorità e alla cabina di regia di cui all’art. 212 del dlgs. 18 aprile 2016, n. 50. | D38: -
A39: Unità operativa speciale EXPO | B39: UOS | C39: 1. Alle dipendenze del Presidente opera l’“Unità Operativa Speciale”, composta prevalentemente da personale della Guardia di Finanza, che svolge le funzioni attribuite dall’art. 30 del d.l. n. 90/2014 e dalle successive disposizioni normative, nonché le ulteriori funzioni attribuite dall’Autorità. La Guardia di Finanza collabora, inoltre, con l’Autorità attraverso il Nucleo Speciale Anticorruzione nell’esecuzione delle attività ispettive e di verifica delegate dal Presidente avuto riguardo agli ambiti di comune interesse. Per finalità di raccordo istituzionale con il Comando Generale della Guardia di Finanza, l’Autorità si avvale anche di un Ufficiale del Corpo, collocato in posizione di “comando” che, con il supporto di un’aliquota di personale a sua disposizione, provvede, tra l’altro, all’esame preliminare delle trattazioni delle questioni relative all’art. 32 , del decreto legge 24 giugno 2014, convertito nella legge 11 agosto 2014, n. 114, ovvero di possibile interesse per l’ANAC. In detti ambiti l’Ufficiale cura i rapporti con l’A.G. e con le altre Istituzioni in ragione degli indirizzi dettati dal Presidente. | D39: -

Sheet Parametri
A2: Responsabilità
B3: Dirigente
B4: Dirigente ispettivo
B5: Funzionario
B6: Dirigente/Funzionario
B7: Dirigente UIS/Dirigente ispettivo
A9: Attività | C9: Tipologia di attività attività discrezionale
B10: Vincolata | D10: Regolamenti
B11: Discrezionale | D11: Regolamento interno dell’Ufficio
D12: Prassi dell’Ufficio
B16: Molto bassa | D16: Altissimo
B17: Bassa | D17: Alto
B18: Media
B19: Alta
B20: Altissima
D22: nascondere | E22: nascondere | F22: nascondere | G22: Risultato
B23: Altissimo | C23: ='Mappatura processi'!O4 -> X | D23: =IF(OR(C23 = "Media", C23="Alta",C23="Altissima"),"Altissimo","") | E23: =IF(C23="Bassa","Alto","") | F23: =IF(C23="Molto bassa","Medio","") | G23: =CONCATENATE(D23,E23,F23)
B24: Alto | C24: ='Mappatura processi'!O5 -> - | D24: =IF(OR(C24 = "Media", C24="Alta",C24="Altissima"),"Altissimo","") | E24: =IF(C24="Bassa","Alto","") | F24: =IF(C24="Molto bassa","Medio","") | G24: =CONCATENATE(D24,E24,F24)
B25: Medio | C25: ='Mappatura processi'!O6 -> - | D25: =IF(OR(C25 = "Media", C25="Alta",C25="Altissima"),"Altissimo","") | E25: =IF(C25="Bassa","Alto","") | F25: =IF(C25="Molto bassa","Medio","") | G25: =CONCATENATE(D25,E25,F25)
C26: ='Mappatura processi'!O7 -> - | D26: =IF(OR(C26 = "Media", C26="Alta",C26="Altissima"),"Altissimo","") | E26: =IF(C26="Bassa","Alto","") | F26: =IF(C26="Molto bassa","Medio","") | G26: =CONCATENATE(D26,E26,F26)
C27: ='Mappatura processi'!O8 -> - | D27: =IF(OR(C27 = "Media", C27="Alta",C27="Altissima"),"Altissimo","") | E27: =IF(C27="Bassa","Alto","") | F27: =IF(C27="Molto bassa","Medio","") | G27: =CONCATENATE(D27,E27,F27)
C28: ='Mappatura processi'!O41 -> - | D28: =IF(OR(C28 = "Media", C28="Alta",C28="Altissima"),"Altissimo","") | E28: =IF(C28="Bassa","Alto","") | F28: =IF(C28="Molto bassa","Medio","") | G28: =CONCATENATE(D28,E28,F28)
C29: ='Mappatura processi'!O42 -> 0 | D29: =IF(OR(C29 = "Media", C29="Alta",C29="Altissima"),"Altissimo","") | E29: =IF(C29="Bassa","Alto","") | F29: =IF(C29="Molto bassa","Medio","") | G29: =CONCATENATE(D29,E29,F29)
C30: ='Mappatura processi'!O43 -> 0 | D30: =IF(OR(C30 = "Media", C30="Alta",C30="Altissima"),"Altissimo","") | E30: =IF(C30="Bassa","Alto","") | F30: =IF(C30="Molto bassa","Medio","") | G30: =CONCATENATE(D30,E30,F30)
C31: ='Mappatura processi'!O44 -> - | D31: =IF(OR(C31 = "Media", C31="Alta",C31="Altissima"),"Altissimo","") | E31: =IF(C31="Bassa","Alto","") | F31: =IF(C31="Molto bassa","Medio","") | G31: =CONCATENATE(D31,E31,F31)
C32: ='Mappatura processi'!O45 -> - | D32: =IF(OR(C32 = "Media", C32="Alta",C32="Altissima"),"Altissimo","") | E32: =IF(C32="Bassa","Alto","") | F32: =IF(C32="Molto bassa","Medio","") | G32: =CONCATENATE(D32,E32,F32)
C33: ='Mappatura processi'!O46 -> 0 | D33: =IF(OR(C33 = "Media", C33="Alta",C33="Altissima"),"Altissimo","") | E33: =IF(C33="Bassa","Alto","") | F33: =IF(C33="Molto bassa","Medio","") | G33: =CONCATENATE(D33,E33,F33)
C34: ='Mappatura processi'!O47 -> 0 | D34: =IF(OR(C34 = "Media", C34="Alta",C34="Altissima"),"Altissimo","") | E34: =IF(C34="Bassa","Alto","") | F34: =IF(C34="Molto bassa","Medio","") | G34: =CONCATENATE(D34,E34,F34)
C35: ='Mappatura processi'!O48 -> - | D35: =IF(OR(C35 = "Media", C35="Alta",C35="Altissima"),"Altissimo","") | E35: =IF(C35="Bassa","Alto","") | F35: =IF(C35="Molto bassa","Medio","") | G35: =CONCATENATE(D35,E35,F35)
C36: ='Mappatura processi'!O49 -> - | D36: =IF(OR(C36 = "Media", C36="Alta",C36="Altissima"),"Altissimo","") | E36: =IF(C36="Bassa","Alto","") | F36: =IF(C36="Molto bassa","Medio","") | G36: =CONCATENATE(D36,E36,F36)
C37: ='Mappatura processi'!O50 -> 0 | D37: =IF(OR(C37 = "Media", C37="Alta",C37="Altissima"),"Altissimo","") | E37: =IF(C37="Bassa","Alto","") | F37: =IF(C37="Molto bassa","Medio","") | G37: =CONCATENATE(D37,E37,F37)
C38: ='Mappatura processi'!O51 -> 0 | D38: =IF(OR(C38 = "Media", C38="Alta",C38="Altissima"),"Altissimo","") | E38: =IF(C38="Bassa","Alto","") | F38: =IF(C38="Molto bassa","Medio","") | G38: =CONCATENATE(D38,E38,F38)
C39: ='Mappatura processi'!#REF! -> #REF! | D39: =IF(OR(C39 = "Media", C39="Alta",C39="Altissima"),"Altissimo","") -> #REF! | E39: =IF(C39="Bassa","Alto","") -> #REF! | F39: =IF(C39="Molto bassa","Medio","") -> #REF! | G39: =CONCATENATE(D39,E39,F39) -> #REF!
C40: ='Mappatura processi'!#REF! -> #REF! | D40: =IF(OR(C40 = "Media", C40="Alta",C40="Altissima"),"Altissimo","") -> #REF! | E40: =IF(C40="Bassa","Alto","") -> #REF! | F40: =IF(C40="Molto bassa","Medio","") -> #REF! | G40: =CONCATENATE(D40,E40,F40) -> #REF!
C41: ='Mappatura processi'!#REF! -> #REF! | D41: =IF(OR(C41 = "Media", C41="Alta",C41="Altissima"),"Altissimo","") -> #REF! | E41: =IF(C41="Bassa","Alto","") -> #REF! | F41: =IF(C41="Molto bassa","Medio","") -> #REF! | G41: =CONCATENATE(D41,E41,F41) -> #REF!
C42: ='Mappatura processi'!#REF! -> #REF! | D42: =IF(OR(C42 = "Media", C42="Alta",C42="Altissima"),"Altissimo","") -> #REF! | E42: =IF(C42="Bassa","Alto","") -> #REF! | F42: =IF(C42="Molto bassa","Medio","") -> #REF! | G42: =CONCATENATE(D42,E42,F42) -> #REF!
C43: ='Mappatura processi'!#REF! -> #REF! | D43: =IF(OR(C43 = "Media", C43="Alta",C43="Altissima"),"Altissimo","") -> #REF! | E43: =IF(C43="Bassa","Alto","") -> #REF! | F43: =IF(C43="Molto bassa","Medio","") -> #REF! | G43: =CONCATENATE(D43,E43,F43) -> #REF!
C44: ='Mappatura processi'!#REF! -> #REF! | D44: =IF(OR(C44 = "Media", C44="Alta",C44="Altissima"),"Altissimo","") -> #REF! | E44: =IF(C44="Bassa","Alto","") -> #REF! | F44: =IF(C44="Molto bassa","Medio","") -> #REF! | G44: =CONCATENATE(D44,E44,F44) -> #REF!
C45: ='Mappatura processi'!#REF! -> #REF! | D45: =IF(OR(C45 = "Media", C45="Alta",C45="Altissima"),"Altissimo","") -> #REF! | E45: =IF(C45="Bassa","Alto","") -> #REF! | F45: =IF(C45="Molto bassa","Medio","") -> #REF! | G45: =CONCATENATE(D45,E45,F45) -> #REF!
C46: ='Mappatura processi'!#REF! -> #REF! | D46: =IF(OR(C46 = "Media", C46="Alta",C46="Altissima"),"Altissimo","") -> #REF! | E46: =IF(C46="Bassa","Alto","") -> #REF! | F46: =IF(C46="Molto bassa","Medio","") -> #REF! | G46: =CONCATENATE(D46,E46,F46) -> #REF!
...

Sheet comportamento a rischio
B2: Comportamento a rischio | C2: Descrizione
B3: CATEGORIA DI EVENTO RISCHIOSO | C3: DESCRIZIONE DEL COMPORTAMENTO A RISCHIO CORRUZIONE
B4: Uso improprio o distorto della discrezionalità | C4: Comportamento attuato mediante l’alterazione di una valutazione, delle evidenze di un’analisi o la ricostruzione infedele o parziale di una circostanza, al fine di distorcere le evidenze e rappresentare il generico evento non già sulla base di elementi oggettivi, ma piuttosto di dati volutamente falsati.
B5: Alterazione/manipolazione/utilizzo improprio di informazioni e documentazione | C5: Gestione impropria di informazioni, atti e documenti sia in termini di eventuali omissioni di allegati o parti integranti delle pratiche, sia dei contenuti e dell’importanza dei medesimi.
B6: Rivelazione di notizie riservate / violazione del segreto d’Ufficio | C6: Divulgazione di informazioni riservate e/o, per loro natura, protette dal segreto d’Ufficio, per le quali la diffusione non autorizzata, la sottrazione o l’uso indebito costituisce un “incidente di sicurezza”.
B7: Alterazione dei tempi | C7: Differimento dei tempi di realizzazione di un’attività al fine di posticiparne l’analisi al limite della deadline utile; per contro, velocizzazione dell’operato nel caso in cui l’obiettivo sia quello di facilitare/contrarre i termini di esecuzione.
B8: Elusione delle procedure di svolgimento delle attività e di controllo | C8: Omissione delle attività di verifica e controllo, in termini di monitoraggio sull’efficace ed efficiente realizzazione della specifica attività (rispetto dei Service Level Agreement, dell’aderenza a specifiche tecniche preventivamente definite, della rendicontazione sull’andamento di applicazioni e servizi in generale, dei documenti di liquidazione, etc).
B9: Pilotamento di procedure/attività ai fini della concessione di privilegi/favori | C9: Alterazione delle procedure di valutazione (sia in fase di pianificazione che di affidamento) al fine di privilegiare un determinato soggetto ovvero assicurare il conseguimento indiscriminato di accessi (a dati ed informazioni) e privilegi.
B10: Conflitto di interessi | C10: Situazione in cui la responsabilità decisionale è affidata ad un soggetto che ha interessi personali o professionali in conflitto con il principio di imparzialità richiesto, contravvenendo quindi a quanto previsto dall’art. 6 bis nella l. 241/1990 secondo cui « Il responsabile del procedimento e i titolari degli uffici competenti ad adottare i pareri, le valutazioni tecniche, gli atti endoprocedimentali e il provvedimento finale devono astenersi in caso di conflitto di interessi, segnalando ogni situazione di conflitto, anche potenziale».
